BEGIN:VCALENDAR
VERSION:2.0
PRODID:JMS Hockey
X-PUBLISHED-TTL:P1W
BEGIN:VEVENT
UID:69e795d6668f8
DTSTART:20160929T163000Z
SEQUENCE:0
TRANSP:OPAQUE
DTEND:20160929T181500Z
URL:http://jmshockey.com/games/9153
LOCATION:Eden Prairie Comm Ctr
SUMMARY:All level Game at Eden Prairie Comm Ctr
CLASS:PUBLIC
DTSTAMP:20260421T102054Z
END:VEVENT
END:VCALENDAR