BEGIN:VCALENDAR
VERSION:2.0
PRODID:JMS Hockey
X-PUBLISHED-TTL:P1W
BEGIN:VEVENT
UID:69e772ff0175e
DTSTART:20161029T014500Z
SEQUENCE:0
TRANSP:OPAQUE
DTEND:20161029T031500Z
URL:http://jmshockey.com/games/9149
LOCATION:Eden Prairie Comm Ctr
SUMMARY:Intermediate Game at Eden Prairie Comm Ctr
CLASS:PUBLIC
DTSTAMP:20260421T075215Z
END:VEVENT
END:VCALENDAR