BEGIN:VCALENDAR
VERSION:2.0
PRODID:JMS Hockey
X-PUBLISHED-TTL:P1W
BEGIN:VEVENT
UID:69e7ba166c543
DTSTART:20161012T014500Z
SEQUENCE:0
TRANSP:OPAQUE
DTEND:20161012T031500Z
URL:http://jmshockey.com/games/9138
LOCATION:Eden Prairie Comm Ctr
SUMMARY:Upper Level Game at Eden Prairie Comm Ctr
CLASS:PUBLIC
DTSTAMP:20260421T125534Z
END:VEVENT
END:VCALENDAR