BEGIN:VCALENDAR
VERSION:2.0
PRODID:JMS Hockey
X-PUBLISHED-TTL:P1W
BEGIN:VEVENT
UID:69e787c5959f0
DTSTART:20160921T020000Z
SEQUENCE:0
TRANSP:OPAQUE
DTEND:20160921T033000Z
URL:http://jmshockey.com/games/9136
LOCATION:Eden Prairie Comm Ctr
SUMMARY:Upper Level Game at Eden Prairie Comm Ctr
CLASS:PUBLIC
DTSTAMP:20260421T092053Z
END:VEVENT
END:VCALENDAR