BEGIN:VCALENDAR
VERSION:2.0
PRODID:JMS Hockey
X-PUBLISHED-TTL:P1W
BEGIN:VEVENT
UID:69e79f7ddf6bd
DTSTART:20160916T023000Z
SEQUENCE:0
TRANSP:OPAQUE
DTEND:20160916T040000Z
URL:http://jmshockey.com/games/9126
LOCATION:Apple Valley Hayes Park Arena
SUMMARY:Intermediate Game at Apple Valley Hayes Park Arena
CLASS:PUBLIC
DTSTAMP:20260421T110205Z
END:VEVENT
END:VCALENDAR