BEGIN:VCALENDAR
VERSION:2.0
PRODID:JMS Hockey
X-PUBLISHED-TTL:P1W
BEGIN:VEVENT
UID:69e7a39b88f68
DTSTART:20160929T024500Z
SEQUENCE:0
TRANSP:OPAQUE
DTEND:20160929T041500Z
URL:http://jmshockey.com/games/9120
LOCATION:Polar Arena
SUMMARY:Lower Level Game at Polar Arena
CLASS:PUBLIC
DTSTAMP:20260421T111939Z
END:VEVENT
END:VCALENDAR