BEGIN:VCALENDAR
VERSION:2.0
PRODID:JMS Hockey
X-PUBLISHED-TTL:P1W
BEGIN:VEVENT
UID:69e79f6dc206e
DTSTART:20160805T020000Z
SEQUENCE:0
TRANSP:OPAQUE
DTEND:20160805T033000Z
URL:http://jmshockey.com/games/9113
LOCATION:Maple Grove
SUMMARY:Lower Level Game at Maple Grove
CLASS:PUBLIC
DTSTAMP:20260421T110149Z
END:VEVENT
END:VCALENDAR