BEGIN:VCALENDAR
VERSION:2.0
PRODID:JMS Hockey
X-PUBLISHED-TTL:P1W
BEGIN:VEVENT
UID:69e785bf26cd5
DTSTART:20160722T011500Z
SEQUENCE:0
TRANSP:OPAQUE
DTEND:20160722T024500Z
URL:http://jmshockey.com/games/9097
LOCATION:Maple Grove
SUMMARY:Lower Level Game at Maple Grove
CLASS:PUBLIC
DTSTAMP:20260421T091215Z
END:VEVENT
END:VCALENDAR