BEGIN:VCALENDAR
VERSION:2.0
PRODID:JMS Hockey
X-PUBLISHED-TTL:P1W
BEGIN:VEVENT
UID:69e7b99dcbd04
DTSTART:20160802T024000Z
SEQUENCE:0
TRANSP:OPAQUE
DTEND:20160802T041000Z
URL:http://jmshockey.com/games/9088
LOCATION:St Thomas Ice Arena
SUMMARY:Elite Game at St Thomas Ice Arena
CLASS:PUBLIC
DTSTAMP:20260421T125333Z
END:VEVENT
END:VCALENDAR