BEGIN:VCALENDAR
VERSION:2.0
PRODID:JMS Hockey
X-PUBLISHED-TTL:P1W
BEGIN:VEVENT
UID:69e7ca8090477
DTSTART:20091003T013000Z
SEQUENCE:0
TRANSP:OPAQUE
DTEND:20091003T030000Z
URL:http://jmshockey.com/games/908
LOCATION:St Louis Park Rec Center
SUMMARY:Level 1 Game at St Louis Park Rec Center
CLASS:PUBLIC
DTSTAMP:20260421T140536Z
END:VEVENT
END:VCALENDAR