BEGIN:VCALENDAR
VERSION:2.0
PRODID:JMS Hockey
X-PUBLISHED-TTL:P1W
BEGIN:VEVENT
UID:69e79dc3a37fd
DTSTART:20160901T003000Z
SEQUENCE:0
TRANSP:OPAQUE
DTEND:20160901T020000Z
URL:http://jmshockey.com/games/9061
LOCATION:Doug Woog Arena (Wakota)
SUMMARY:Level 3 Game at Doug Woog Arena (Wakota)
CLASS:PUBLIC
DTSTAMP:20260421T105443Z
END:VEVENT
END:VCALENDAR