BEGIN:VCALENDAR
VERSION:2.0
PRODID:JMS Hockey
X-PUBLISHED-TTL:P1W
BEGIN:VEVENT
UID:69e785830d5d6
DTSTART:20160719T022000Z
SEQUENCE:0
TRANSP:OPAQUE
DTEND:20160719T035000Z
URL:http://jmshockey.com/games/9042
LOCATION:Doug Woog Arena (Wakota)
SUMMARY:Lower Level Game at Doug Woog Arena (Wakota)
CLASS:PUBLIC
DTSTAMP:20260421T091115Z
END:VEVENT
END:VCALENDAR