BEGIN:VCALENDAR
VERSION:2.0
PRODID:JMS Hockey
X-PUBLISHED-TTL:P1W
BEGIN:VEVENT
UID:69e7f86fc01bb
DTSTART:20160828T010000Z
SEQUENCE:0
TRANSP:OPAQUE
DTEND:20160828T023000Z
URL:http://jmshockey.com/games/9036
LOCATION:St Thomas Ice Arena
SUMMARY:All level Game at St Thomas Ice Arena
CLASS:PUBLIC
DTSTAMP:20260421T172135Z
END:VEVENT
END:VCALENDAR