BEGIN:VCALENDAR
VERSION:2.0
PRODID:JMS Hockey
X-PUBLISHED-TTL:P1W
BEGIN:VEVENT
UID:69e79a3323a66
DTSTART:20160814T010000Z
SEQUENCE:0
TRANSP:OPAQUE
DTEND:20160814T023000Z
URL:http://jmshockey.com/games/9034
LOCATION:St Thomas Ice Arena
SUMMARY:All level Game at St Thomas Ice Arena
CLASS:PUBLIC
DTSTAMP:20260421T103931Z
END:VEVENT
END:VCALENDAR