BEGIN:VCALENDAR
VERSION:2.0
PRODID:JMS Hockey
X-PUBLISHED-TTL:P1W
BEGIN:VEVENT
UID:69e7adc474ec9
DTSTART:20160724T010000Z
SEQUENCE:0
TRANSP:OPAQUE
DTEND:20160724T023000Z
URL:http://jmshockey.com/games/9031
LOCATION:St Thomas Ice Arena
SUMMARY:All level Game at St Thomas Ice Arena
CLASS:PUBLIC
DTSTAMP:20260421T120300Z
END:VEVENT
END:VCALENDAR