BEGIN:VCALENDAR
VERSION:2.0
PRODID:JMS Hockey
X-PUBLISHED-TTL:P1W
BEGIN:VEVENT
UID:69e7ceb1f2eeb
DTSTART:20160826T024000Z
SEQUENCE:0
TRANSP:OPAQUE
DTEND:20160826T041000Z
URL:http://jmshockey.com/games/9022
LOCATION:St Thomas Ice Arena
SUMMARY:All level Game at St Thomas Ice Arena
CLASS:PUBLIC
DTSTAMP:20260421T142330Z
END:VEVENT
END:VCALENDAR