BEGIN:VCALENDAR
VERSION:2.0
PRODID:JMS Hockey
X-PUBLISHED-TTL:P1W
BEGIN:VEVENT
UID:69e7e6c2b02a0
DTSTART:20160706T024500Z
SEQUENCE:0
TRANSP:OPAQUE
DTEND:20160706T041500Z
URL:http://jmshockey.com/games/9002
LOCATION:St Louis Park Rec Center
SUMMARY:Upper Level Game at St Louis Park Rec Center
CLASS:PUBLIC
DTSTAMP:20260421T160610Z
END:VEVENT
END:VCALENDAR