BEGIN:VCALENDAR
VERSION:2.0
PRODID:JMS Hockey
X-PUBLISHED-TTL:P1W
BEGIN:VEVENT
UID:69e79f4d30bcd
DTSTART:20160611T023000Z
SEQUENCE:0
TRANSP:OPAQUE
DTEND:20160611T040000Z
URL:http://jmshockey.com/games/8986
LOCATION:Schwan Superrink
SUMMARY:All level Game at Schwan Superrink
CLASS:PUBLIC
DTSTAMP:20260421T110117Z
END:VEVENT
END:VCALENDAR