BEGIN:VCALENDAR
VERSION:2.0
PRODID:JMS Hockey
X-PUBLISHED-TTL:P1W
BEGIN:VEVENT
UID:69e79f4acbc05
DTSTART:20160723T003000Z
SEQUENCE:0
TRANSP:OPAQUE
DTEND:20160723T020000Z
URL:http://jmshockey.com/games/8980
LOCATION:Rosemount Arena
SUMMARY:Lower Level Game at Rosemount Arena
CLASS:PUBLIC
DTSTAMP:20260421T110114Z
END:VEVENT
END:VCALENDAR