BEGIN:VCALENDAR
VERSION:2.0
PRODID:JMS Hockey
X-PUBLISHED-TTL:P1W
BEGIN:VEVENT
UID:69e7b9a2d6da9
DTSTART:20160730T003000Z
SEQUENCE:0
TRANSP:OPAQUE
DTEND:20160730T020000Z
URL:http://jmshockey.com/games/8976
LOCATION:Rosemount Arena
SUMMARY:Lower Level Game at Rosemount Arena
CLASS:PUBLIC
DTSTAMP:20260421T125338Z
END:VEVENT
END:VCALENDAR