BEGIN:VCALENDAR
VERSION:2.0
PRODID:JMS Hockey
X-PUBLISHED-TTL:P1W
BEGIN:VEVENT
UID:69e7d4c036b4f
DTSTART:20160809T004500Z
SEQUENCE:0
TRANSP:OPAQUE
DTEND:20160809T021500Z
URL:http://jmshockey.com/games/8972
LOCATION:Pleasant Arena
SUMMARY:Lower Level Game at Pleasant Arena
CLASS:PUBLIC
DTSTAMP:20260421T144920Z
END:VEVENT
END:VCALENDAR