BEGIN:VCALENDAR
VERSION:2.0
PRODID:JMS Hockey
X-PUBLISHED-TTL:P1W
BEGIN:VEVENT
UID:69e7918c7d675
DTSTART:20160723T004500Z
SEQUENCE:0
TRANSP:OPAQUE
DTEND:20160723T021500Z
URL:http://jmshockey.com/games/8958
LOCATION:Highland Arena
SUMMARY:Lower Level Game at Highland Arena
CLASS:PUBLIC
DTSTAMP:20260421T100236Z
END:VEVENT
END:VCALENDAR