BEGIN:VCALENDAR
VERSION:2.0
PRODID:JMS Hockey
X-PUBLISHED-TTL:P1W
BEGIN:VEVENT
UID:69e7cae6c50ce
DTSTART:20160729T021500Z
SEQUENCE:0
TRANSP:OPAQUE
DTEND:20160729T034500Z
URL:http://jmshockey.com/games/8947
LOCATION:Moose Sherritt Ice Arena
SUMMARY:All level Game at Moose Sherritt Ice Arena
CLASS:PUBLIC
DTSTAMP:20260421T140718Z
END:VEVENT
END:VCALENDAR