BEGIN:VCALENDAR
VERSION:2.0
PRODID:JMS Hockey
X-PUBLISHED-TTL:P1W
BEGIN:VEVENT
UID:69e7ad71a1800
DTSTART:20160701T020000Z
SEQUENCE:0
TRANSP:OPAQUE
DTEND:20160701T033000Z
URL:http://jmshockey.com/games/8943
LOCATION:Moose Sherritt Ice Arena
SUMMARY:All level Game at Moose Sherritt Ice Arena
CLASS:PUBLIC
DTSTAMP:20260421T120137Z
END:VEVENT
END:VCALENDAR