BEGIN:VCALENDAR
VERSION:2.0
PRODID:JMS Hockey
X-PUBLISHED-TTL:P1W
BEGIN:VEVENT
UID:69e777002b2ac
DTSTART:20160603T020000Z
SEQUENCE:0
TRANSP:OPAQUE
DTEND:20160603T033000Z
URL:http://jmshockey.com/games/8940
LOCATION:Maple Grove
SUMMARY:Lower Level Game at Maple Grove
CLASS:PUBLIC
DTSTAMP:20260421T080920Z
END:VEVENT
END:VCALENDAR