BEGIN:VCALENDAR
VERSION:2.0
PRODID:JMS Hockey
X-PUBLISHED-TTL:P1W
BEGIN:VEVENT
UID:69e7a369f23af
DTSTART:20160817T013000Z
SEQUENCE:0
TRANSP:OPAQUE
DTEND:20160817T030000Z
URL:http://jmshockey.com/games/8938
LOCATION:Maple Grove
SUMMARY:Intermediate Game at Maple Grove
CLASS:PUBLIC
DTSTAMP:20260421T111849Z
END:VEVENT
END:VCALENDAR