BEGIN:VCALENDAR
VERSION:2.0
PRODID:JMS Hockey
X-PUBLISHED-TTL:P1W
BEGIN:VEVENT
UID:69e7adb6294c2
DTSTART:20160728T020000Z
SEQUENCE:0
TRANSP:OPAQUE
DTEND:20160728T033000Z
URL:http://jmshockey.com/games/8923
LOCATION:Maple Grove
SUMMARY:Upper Level Game at Maple Grove
CLASS:PUBLIC
DTSTAMP:20260421T120246Z
END:VEVENT
END:VCALENDAR