BEGIN:VCALENDAR
VERSION:2.0
PRODID:JMS Hockey
X-PUBLISHED-TTL:P1W
BEGIN:VEVENT
UID:69e7c31bcd186
DTSTART:20160714T020000Z
SEQUENCE:0
TRANSP:OPAQUE
DTEND:20160714T033000Z
URL:http://jmshockey.com/games/8921
LOCATION:Maple Grove
SUMMARY:Upper Level Game at Maple Grove
CLASS:PUBLIC
DTSTAMP:20260421T133403Z
END:VEVENT
END:VCALENDAR