BEGIN:VCALENDAR
VERSION:2.0
PRODID:JMS Hockey
X-PUBLISHED-TTL:P1W
BEGIN:VEVENT
UID:69e7adbe80bc7
DTSTART:20160903T004500Z
SEQUENCE:0
TRANSP:OPAQUE
DTEND:20160903T021500Z
URL:http://jmshockey.com/games/8911
LOCATION:Eden Prairie Comm Ctr
SUMMARY:Intermediate Game at Eden Prairie Comm Ctr
CLASS:PUBLIC
DTSTAMP:20260421T120254Z
END:VEVENT
END:VCALENDAR