BEGIN:VCALENDAR
VERSION:2.0
PRODID:JMS Hockey
X-PUBLISHED-TTL:P1W
BEGIN:VEVENT
UID:69e7d484ea030
DTSTART:20160618T004500Z
SEQUENCE:0
TRANSP:OPAQUE
DTEND:20160618T021500Z
URL:http://jmshockey.com/games/8904
LOCATION:Eden Prairie Comm Ctr
SUMMARY:Intermediate Game at Eden Prairie Comm Ctr
CLASS:PUBLIC
DTSTAMP:20260421T144820Z
END:VEVENT
END:VCALENDAR