BEGIN:VCALENDAR
VERSION:2.0
PRODID:JMS Hockey
X-PUBLISHED-TTL:P1W
BEGIN:VEVENT
UID:69e7c31542459
DTSTART:20160611T013000Z
SEQUENCE:0
TRANSP:OPAQUE
DTEND:20160611T030000Z
URL:http://jmshockey.com/games/8903
LOCATION:Eden Prairie Comm Ctr
SUMMARY:Intermediate Game at Eden Prairie Comm Ctr
CLASS:PUBLIC
DTSTAMP:20260421T133357Z
END:VEVENT
END:VCALENDAR