BEGIN:VCALENDAR
VERSION:2.0
PRODID:JMS Hockey
X-PUBLISHED-TTL:P1W
BEGIN:VEVENT
UID:69e7b2d87c7fd
DTSTART:20090929T011500Z
SEQUENCE:0
TRANSP:OPAQUE
DTEND:20090929T024500Z
URL:http://jmshockey.com/games/889
LOCATION:Hat Trick Arena
SUMMARY:Level 1 Game at Hat Trick Arena
CLASS:PUBLIC
DTSTAMP:20260421T122440Z
END:VEVENT
END:VCALENDAR