BEGIN:VCALENDAR
VERSION:2.0
PRODID:JMS Hockey
X-PUBLISHED-TTL:P1W
BEGIN:VEVENT
UID:69e795729419e
DTSTART:20160903T004500Z
SEQUENCE:0
TRANSP:OPAQUE
DTEND:20160903T021500Z
URL:http://jmshockey.com/games/8885
LOCATION:Breck Anderson Arena
SUMMARY:All level Game at Breck Anderson Arena
CLASS:PUBLIC
DTSTAMP:20260421T101914Z
END:VEVENT
END:VCALENDAR