BEGIN:VCALENDAR
VERSION:2.0
PRODID:JMS Hockey
X-PUBLISHED-TTL:P1W
BEGIN:VEVENT
UID:69e7cea7497fd
DTSTART:20160812T021500Z
SEQUENCE:0
TRANSP:OPAQUE
DTEND:20160812T034500Z
URL:http://jmshockey.com/games/8860
LOCATION:Apple Valley Hayes Park Arena
SUMMARY:Intermediate Game at Apple Valley Hayes Park Arena
CLASS:PUBLIC
DTSTAMP:20260421T142319Z
END:VEVENT
END:VCALENDAR