BEGIN:VCALENDAR
VERSION:2.0
PRODID:JMS Hockey
X-PUBLISHED-TTL:P1W
BEGIN:VEVENT
UID:69e787aeb7860
DTSTART:20160624T013000Z
SEQUENCE:0
TRANSP:OPAQUE
DTEND:20160624T030000Z
URL:http://jmshockey.com/games/8853
LOCATION:Apple Valley Hayes Park Arena
SUMMARY:Intermediate Game at Apple Valley Hayes Park Arena
CLASS:PUBLIC
DTSTAMP:20260421T092030Z
END:VEVENT
END:VCALENDAR