BEGIN:VCALENDAR
VERSION:2.0
PRODID:JMS Hockey
X-PUBLISHED-TTL:P1W
BEGIN:VEVENT
UID:69e79a1304adf
DTSTART:20160617T013000Z
SEQUENCE:0
TRANSP:OPAQUE
DTEND:20160617T030000Z
URL:http://jmshockey.com/games/8852
LOCATION:Apple Valley Hayes Park Arena
SUMMARY:Intermediate Game at Apple Valley Hayes Park Arena
CLASS:PUBLIC
DTSTAMP:20260421T103859Z
END:VEVENT
END:VCALENDAR