BEGIN:VCALENDAR
VERSION:2.0
PRODID:JMS Hockey
X-PUBLISHED-TTL:P1W
BEGIN:VEVENT
UID:69e7aecd090af
DTSTART:20160622T013000Z
SEQUENCE:0
TRANSP:OPAQUE
DTEND:20160622T030000Z
URL:http://jmshockey.com/games/8841
LOCATION:Apple Valley Hayes Park Arena
SUMMARY:Lower Level Game at Apple Valley Hayes Park Arena
CLASS:PUBLIC
DTSTAMP:20260421T120725Z
END:VEVENT
END:VCALENDAR