BEGIN:VCALENDAR
VERSION:2.0
PRODID:JMS Hockey
X-PUBLISHED-TTL:P1W
BEGIN:VEVENT
UID:69e7c36e1766a
DTSTART:20160702T143000Z
SEQUENCE:0
TRANSP:OPAQUE
DTEND:20160702T153000Z
URL:http://jmshockey.com/games/8826
LOCATION:Roseville Skating Center
SUMMARY:All level Game at Roseville Skating Center
CLASS:PUBLIC
DTSTAMP:20260421T133526Z
END:VEVENT
END:VCALENDAR