BEGIN:VCALENDAR
VERSION:2.0
PRODID:JMS Hockey
X-PUBLISHED-TTL:P1W
BEGIN:VEVENT
UID:69e79a5badf33
DTSTART:20160503T163000Z
SEQUENCE:0
TRANSP:OPAQUE
DTEND:20160503T181500Z
URL:http://jmshockey.com/games/8820
LOCATION:Eden Prairie Comm Ctr
SUMMARY:All level Game at Eden Prairie Comm Ctr
CLASS:PUBLIC
DTSTAMP:20260421T104011Z
END:VEVENT
END:VCALENDAR