BEGIN:VCALENDAR
VERSION:2.0
PRODID:JMS Hockey
X-PUBLISHED-TTL:P1W
BEGIN:VEVENT
UID:69e7a710778f3
DTSTART:20090926T013000Z
SEQUENCE:0
TRANSP:OPAQUE
DTEND:20090926T030000Z
URL:http://jmshockey.com/games/882
LOCATION:St Louis Park Rec Center
SUMMARY:Level 1 Game at St Louis Park Rec Center
CLASS:PUBLIC
DTSTAMP:20260421T113424Z
END:VEVENT
END:VCALENDAR