BEGIN:VCALENDAR
VERSION:2.0
PRODID:JMS Hockey
X-PUBLISHED-TTL:P1W
BEGIN:VEVENT
UID:69e7859699abf
DTSTART:20160520T024500Z
SEQUENCE:0
TRANSP:OPAQUE
DTEND:20160520T041500Z
URL:http://jmshockey.com/games/8819
LOCATION:Woodbury Bielenberg
SUMMARY:Lower Level Game at Woodbury Bielenberg
CLASS:PUBLIC
DTSTAMP:20260421T091134Z
END:VEVENT
END:VCALENDAR