BEGIN:VCALENDAR
VERSION:2.0
PRODID:JMS Hockey
X-PUBLISHED-TTL:P1W
BEGIN:VEVENT
UID:69e7d4dc430b1
DTSTART:20160503T003000Z
SEQUENCE:0
TRANSP:OPAQUE
DTEND:20160503T020000Z
URL:http://jmshockey.com/games/8811
LOCATION:Doug Woog Arena (Wakota)
SUMMARY:Lower Level Game at Doug Woog Arena (Wakota)
CLASS:PUBLIC
DTSTAMP:20260421T144948Z
END:VEVENT
END:VCALENDAR