BEGIN:VCALENDAR
VERSION:2.0
PRODID:JMS Hockey
X-PUBLISHED-TTL:P1W
BEGIN:VEVENT
UID:69e7d88de88f3
DTSTART:20091010T013000Z
SEQUENCE:0
TRANSP:OPAQUE
DTEND:20091010T030000Z
URL:http://jmshockey.com/games/881
LOCATION:St Louis Park Rec Center
SUMMARY:Level 1 Game at St Louis Park Rec Center
CLASS:PUBLIC
DTSTAMP:20260421T150533Z
END:VEVENT
END:VCALENDAR