BEGIN:VCALENDAR
VERSION:2.0
PRODID:JMS Hockey
X-PUBLISHED-TTL:P1W
BEGIN:VEVENT
UID:69e7af5ce6e36
DTSTART:20160508T013000Z
SEQUENCE:0
TRANSP:OPAQUE
DTEND:20160508T030000Z
URL:http://jmshockey.com/games/8798
LOCATION:St Thomas Ice Arena
SUMMARY:All level Game at St Thomas Ice Arena
CLASS:PUBLIC
DTSTAMP:20260421T120948Z
END:VEVENT
END:VCALENDAR