BEGIN:VCALENDAR
VERSION:2.0
PRODID:JMS Hockey
X-PUBLISHED-TTL:P1W
BEGIN:VEVENT
UID:69e7c33fd3d80
DTSTART:20160813T143000Z
SEQUENCE:0
TRANSP:OPAQUE
DTEND:20160813T153000Z
URL:http://jmshockey.com/games/8785
LOCATION:Richfield Ice Arena
SUMMARY:All level Game at Richfield Ice Arena
CLASS:PUBLIC
DTSTAMP:20260421T133439Z
END:VEVENT
END:VCALENDAR