BEGIN:VCALENDAR
VERSION:2.0
PRODID:JMS Hockey
X-PUBLISHED-TTL:P1W
BEGIN:VEVENT
UID:69e7c3184655e
DTSTART:20160827T141500Z
SEQUENCE:0
TRANSP:OPAQUE
DTEND:20160827T151500Z
URL:http://jmshockey.com/games/8780
LOCATION:Richfield Ice Arena
SUMMARY:All level Game at Richfield Ice Arena
CLASS:PUBLIC
DTSTAMP:20260421T133400Z
END:VEVENT
END:VCALENDAR