BEGIN:VCALENDAR
VERSION:2.0
PRODID:JMS Hockey
X-PUBLISHED-TTL:P1W
BEGIN:VEVENT
UID:69e7c3c63fb6f
DTSTART:20160507T013000Z
SEQUENCE:0
TRANSP:OPAQUE
DTEND:20160507T030000Z
URL:http://jmshockey.com/games/8777
LOCATION:Schwan Superrink
SUMMARY:All level Game at Schwan Superrink
CLASS:PUBLIC
DTSTAMP:20260421T133654Z
END:VEVENT
END:VCALENDAR