BEGIN:VCALENDAR
VERSION:2.0
PRODID:JMS Hockey
X-PUBLISHED-TTL:P1W
BEGIN:VEVENT
UID:69e787f6988e1
DTSTART:20160507T021500Z
SEQUENCE:0
TRANSP:OPAQUE
DTEND:20160507T034500Z
URL:http://jmshockey.com/games/8773
LOCATION:Rosemount Arena
SUMMARY:Lower Level Game at Rosemount Arena
CLASS:PUBLIC
DTSTAMP:20260421T092142Z
END:VEVENT
END:VCALENDAR