BEGIN:VCALENDAR
VERSION:2.0
PRODID:JMS Hockey
X-PUBLISHED-TTL:P1W
BEGIN:VEVENT
UID:69e7c319e5e97
DTSTART:20160526T023000Z
SEQUENCE:0
TRANSP:OPAQUE
DTEND:20160526T040000Z
URL:http://jmshockey.com/games/8759
LOCATION:Maple Grove
SUMMARY:Upper Level Game at Maple Grove
CLASS:PUBLIC
DTSTAMP:20260421T133401Z
END:VEVENT
END:VCALENDAR