BEGIN:VCALENDAR
VERSION:2.0
PRODID:JMS Hockey
X-PUBLISHED-TTL:P1W
BEGIN:VEVENT
UID:69e7c31b049d0
DTSTART:20160519T011500Z
SEQUENCE:0
TRANSP:OPAQUE
DTEND:20160519T024500Z
URL:http://jmshockey.com/games/8758
LOCATION:Maple Grove
SUMMARY:Upper Level Game at Maple Grove
CLASS:PUBLIC
DTSTAMP:20260421T133403Z
END:VEVENT
END:VCALENDAR